BEGIN:VCALENDAR
VERSION:2.0
CALSCALE:GREGORIAN
METHOD:PUBLISH
PRODID://NDCP//510385
BEGIN:VEVENT
DTSTAMP:20260424T223950
VTIMEZONE:America/Chicago
DTSTART:20270331T173000Z
DTEND:20270331T210000Z
UID:510385
SUMMARY:Surgent's Current Issues in Accounting and Auditing: An Annual Update (AAU4)
LOCATION:Webinar
DESCRIPTION:Surgent's Current Issues in Accounting and Auditing: An Annual Update (AAU4)\n\n03/31/27 12:30 PM CST\n - 03/31/27 04:00 PM CST\Description:\nDesigned for accounting, auditing, and attestation practitioners at all levels in public accounting and business and industry, this course provides a detailed review of the multitude of FASB and AICPA standards and reports issued over the past few years, including all 12 of the FASB ASUs issued in 2025 alone. We also will discuss the FASBâ€™s Stage 3 PIR report on ASC 842, Leases, and identify the key takeaways from the report. This course also provides an overview of recent PCAOB standards updates and SEC rulemaking activity, as well as recent updates to the AICPAâ€™s Independence Rule. Through hands-on examples and illustrations, this course will help you apply the guidance in practice. This is your one-stop shop for what you need to know in A&A for 2026.
 Note that we will not cover the updates to the Quality Management Standards (SQMS 1, 2, and 3) in this course.Objectives:
 Recall and apply recently issued and proposed FASB and AICPA pronouncements
 Understand the key findings of the FASB’s PIR report covering leases in ASC 842
 Understand the main provisions of PCAOB AS 2310 and AS 1105
 Identify other important A&A practice matters to be aware of
 Utilize hands-on examples and illustrations to demonstrate an overall understanding and application of the material
 Presenters:Jason Carney, CPA, PMP, CISAField of Study:Accounting (Governmental) (2), Auditing (2)Major Topics:
 Recently issued but newly implemented Accounting Standards Updates (ASUs), the PCC Update, and items on the FASB’s Technical Agenda
 New ASUs covering derivatives and hedging, government grants, and practical expedients and policy elections for credit losses under ASC 326
 Results and findings of the FASB’s Final (Stage 3) Post-Implementation Review (PIR) Report on Topic 842, Leases
 Recently issued SASs and other AICPA activity through SAS No. 149
 Other important A&A practice matters
 \Location:\nWebinar\n\n,
X-ALT-DESC;FMTTYPE=text/html:Surgent's Current Issues in Accounting and Auditing: An Annual Update (AAU4)<br /><br />03/31/27 12:30 PM CST - 03/31/27 04:00 PM CST<br />Description:<br /><br>Designed for accounting, auditing, and attestation practitioners at all levels in public accounting and business and industry, this course provides a detailed review of the multitude of FASB and AICPA standards and reports issued over the past few years, including all 12 of the FASB ASUs issued in 2025 alone. We also will discuss the FASBâ€™s Stage 3 PIR report on ASC 842, Leases, and identify the key takeaways from the report. This course also provides an overview of recent PCAOB standards updates and SEC rulemaking activity, as well as recent updates to the AICPAâ€™s Independence Rule. Through hands-on examples and illustrations, this course will help you apply the guidance in practice. This is your one-stop shop for what you need to know in A&A for 2026.</br><br />
<br />
<br>Note that we will not cover the updates to the Quality Management Standards (SQMS 1, 2, and 3) in this course.</br><br><br><b>Objectives:</b><br><ul>
    <li>Recall and apply recently issued and proposed FASB and AICPA pronouncements</li>
    <li>Understand the key findings of the FASB&rsquo;s PIR report covering leases in ASC 842</li>
    <li>Understand the main provisions of PCAOB AS 2310 and AS 1105</li>
    <li>Identify other important A&amp;A practice matters to be aware of</li>
    <li>Utilize hands-on examples and illustrations to demonstrate an overall understanding and application of the material</li>
</ul><br><b>Presenters:</b><br>Jason Carney, CPA, PMP, CISA<br><br><b>Field of Study:</b><br>Accounting (Governmental) (2), Auditing (2)<br><br><b>Major Topics:</b><br><ul>
    <li>Recently issued but newly implemented Accounting Standards Updates (ASUs), the PCC Update, and items on the FASB&rsquo;s Technical Agenda</li>
    <li>New ASUs covering derivatives and hedging, government grants, and practical expedients and policy elections for credit losses under ASC 326</li>
    <li>Results and findings of the FASB&rsquo;s Final (Stage 3) Post-Implementation Review (PIR) Report on Topic 842, <em>Leases</em></li>
    <li>Recently issued SASs and other AICPA activity through SAS No. 149</li>
    <li>Other important A&amp;A practice matters</li>
</ul><br />Location:<br />Webinar<br /><br />,  
PRIORITY:3
TRANSP:TRANSPARENT
BEGIN:VALARM
TRIGGER:-PT5M
ACTION:DISPLAY
DESCRIPTION:Reminder
END:VALARM
END:VEVENT
END:VCALENDAR
