BEGIN:VCALENDAR
VERSION:2.0
CALSCALE:GREGORIAN
METHOD:PUBLISH
PRODID://NDCP//510391
BEGIN:VEVENT
DTSTAMP:20260424T223210
VTIMEZONE:America/Chicago
DTSTART:20270313T150000Z
DTEND:20270313T183400Z
UID:510391
SUMMARY:10 Keys to Outstanding Service and More Referrals
LOCATION:Webinar
DESCRIPTION:10 Keys to Outstanding Service and More Referrals\n\n03/13/27 09:00 AM CST\n - 03/13/27 12:34 PM CST\Description:\nIn a competitive economy, CPA's  and their firms need a way to stand out. The best way to do this is to give outstanding service to your clients. In this experiential workshop, you’ll learn skills that lead to dramatic client satisfaction. In addition, you'll learn several specific ways to guarantee you'll get a lot of word of mouth referrals that will lead to a dramatic increase in your number of clients.
 Speakers:Jonathan Robinson, MA, MFT\Location:\nWebinar\n\n,
X-ALT-DESC;FMTTYPE=text/html:10 Keys to Outstanding Service and More Referrals<br /><br />03/13/27 09:00 AM CST - 03/13/27 12:34 PM CST<br />Description:<br /><p>In a competitive economy, CPA&#39;s &nbsp;and their firms need a way to stand out. The best way to do this is to give outstanding service to your clients. In this experiential workshop, you&rsquo;ll learn skills that lead to dramatic client satisfaction. In addition, you&#39;ll learn several specific ways to guarantee you&#39;ll get a lot of word of mouth referrals that will lead to a dramatic increase in your number of clients.</p>
<br><b>Speakers:</b><br>Jonathan Robinson, MA, MFT<br><br />Location:<br />Webinar<br /><br />,  
PRIORITY:3
TRANSP:TRANSPARENT
BEGIN:VALARM
TRIGGER:-PT5M
ACTION:DISPLAY
DESCRIPTION:Reminder
END:VALARM
END:VEVENT
END:VCALENDAR
