BEGIN:VCALENDAR
VERSION:2.0
CALSCALE:GREGORIAN
METHOD:PUBLISH
PRODID://NDCP//510603
BEGIN:VEVENT
DTSTAMP:20260425T001103
VTIMEZONE:America/Chicago
DTSTART:20270303T200000Z
DTEND:20270303T230000Z
UID:510603
SUMMARY:Cybersecurity & IT Risk for IT Auditors and Financial Auditors
LOCATION:Webinar
DESCRIPTION:Cybersecurity & IT Risk for IT Auditors and Financial Auditors\n\n03/03/27 02:00 PM CST\n - 03/03/27 05:00 PM CST\Description:\nThis course equips financial and information technology auditors with an understanding of cybersecurity risks and their impact on financial reporting as well as cybersecurity best practices. Participants will learn to identify threats, evaluate controls, and assess risk using recognized frameworks, with a focus on audit implications.
 Speakers:Kevin M. Rockecharlie, CISA\Location:\nWebinar\n\n,
X-ALT-DESC;FMTTYPE=text/html:Cybersecurity & IT Risk for IT Auditors and Financial Auditors<br /><br />03/03/27 02:00 PM CST - 03/03/27 05:00 PM CST<br />Description:<br /><p>This course equips financial and information technology auditors with an understanding of cybersecurity risks and their impact on financial reporting as well as cybersecurity best practices. Participants will learn to identify threats, evaluate controls, and assess risk using recognized frameworks, with a focus on audit implications.</p>
<br><b>Speakers:</b><br>Kevin M. Rockecharlie, CISA<br><br />Location:<br />Webinar<br /><br />,  
PRIORITY:3
TRANSP:TRANSPARENT
BEGIN:VALARM
TRIGGER:-PT5M
ACTION:DISPLAY
DESCRIPTION:Reminder
END:VALARM
END:VEVENT
END:VCALENDAR
