BEGIN:VCALENDAR
VERSION:2.0
CALSCALE:GREGORIAN
METHOD:PUBLISH
PRODID://NDCP//510673
BEGIN:VEVENT
DTSTAMP:20260424T224050
VTIMEZONE:America/Chicago
DTSTART:20270327T150000Z
DTEND:20270327T163100Z
UID:510673
SUMMARY:Ethics in Artificial Intelligence
LOCATION:Webinar
DESCRIPTION:Ethics in Artificial Intelligence\n\n03/27/27 10:00 AM CST\n - 03/27/27 11:31 AM CST\Description:\nArtificial Intelligence (AI) is reshaping industries, decision-making, and everyday life at an unprecedented pace. While its potential for innovation is immense, AI also raises profound ethical challenges around fairness, accountability, transparency, and human rights. 
 Bias in algorithms, misuse of personal data, opaque decision-making, and the displacement of human judgment underscore the urgent need for ethical frameworks to guide AI development and use.
 Speakers:Lynn Fountain\Location:\nWebinar\n\n,
X-ALT-DESC;FMTTYPE=text/html:Ethics in Artificial Intelligence<br /><br />03/27/27 10:00 AM CST - 03/27/27 11:31 AM CST<br />Description:<br /><p>Artificial Intelligence (AI) is reshaping industries, decision-making, and everyday life at an unprecedented pace. While its potential for innovation is immense, AI also raises profound ethical challenges around fairness, accountability, transparency, and human rights.&nbsp;</p>

<p>Bias in algorithms, misuse of personal data, opaque decision-making, and the displacement of human judgment underscore the urgent need for ethical frameworks to guide AI development and use.</p>
<br><b>Speakers:</b><br>Lynn Fountain<br><br />Location:<br />Webinar<br /><br />,  
PRIORITY:3
TRANSP:TRANSPARENT
BEGIN:VALARM
TRIGGER:-PT5M
ACTION:DISPLAY
DESCRIPTION:Reminder
END:VALARM
END:VEVENT
END:VCALENDAR
