BEGIN:VCALENDAR
VERSION:2.0
CALSCALE:GREGORIAN
METHOD:PUBLISH
PRODID://NDCP//510740
BEGIN:VEVENT
DTSTAMP:20260425T000300
VTIMEZONE:America/Chicago
DTSTART:20270327T130000Z
DTEND:20270327T144700Z
UID:510740
SUMMARY:How to Audit Prepaid Expenses
LOCATION:Webinar
DESCRIPTION:How to Audit Prepaid Expenses\n\n03/27/27 08:00 AM CST\n - 03/27/27 09:47 AM CST\Description:\nUnderstanding how to effectively audit prepaid expenses is a key skill for audit staff. This course provides a comprehensive overview of the fundamentals, including the applicable audit assertions and common risks and threats associated with the prepaid expense balance. Participants will learn how to perform substantive auditing procedures to ensure accuracy and reliability, with guidance on applying these techniques to real-world scenarios. Designed to enhance practical knowledge, this session equips auditors with the tools and confidence needed to navigate prepaid expense audits with proficiency.
 Speakers:Jaclyn Veno, CPA\Location:\nWebinar\n\n,
X-ALT-DESC;FMTTYPE=text/html:How to Audit Prepaid Expenses<br /><br />03/27/27 08:00 AM CST - 03/27/27 09:47 AM CST<br />Description:<br /><p>Understanding how to effectively audit prepaid expenses is a key skill for audit staff. This course provides a comprehensive overview of the fundamentals, including the applicable audit assertions and common risks and threats associated with the prepaid expense balance. Participants will learn how to perform substantive auditing procedures to ensure accuracy and reliability, with guidance on applying these techniques to real-world scenarios. Designed to enhance practical knowledge, this session equips auditors with the tools and confidence needed to navigate prepaid expense audits with proficiency.</p>
<br><b>Speakers:</b><br>Jaclyn Veno, CPA<br><br />Location:<br />Webinar<br /><br />,  
PRIORITY:3
TRANSP:TRANSPARENT
BEGIN:VALARM
TRIGGER:-PT5M
ACTION:DISPLAY
DESCRIPTION:Reminder
END:VALARM
END:VEVENT
END:VCALENDAR
