BEGIN:VCALENDAR
VERSION:2.0
CALSCALE:GREGORIAN
METHOD:PUBLISH
PRODID://NDCP//510758
BEGIN:VEVENT
DTSTAMP:20260424T223920
VTIMEZONE:America/Chicago
DTSTART:20270313T150000Z
DTEND:20270313T223700Z
UID:510758
SUMMARY:IRAs â€“ Contributions & Distributions for Traditional, Roth, SEP & SIMPLE IRAs
LOCATION:Webinar
DESCRIPTION:IRAs â€“ Contributions & Distributions for Traditional, Roth, SEP & SIMPLE IRAs\n\n03/13/27 09:00 AM CST\n - 03/13/27 04:37 PM CST\Description:\nThis case-driven training is designed to get the inexperienced accountant up to speed quickly in the most common areas of S-corporation taxation. The cornerstone of this course is the preparation of the Form 1120S using a fairly complex trial balance common to most S corporation income tax returns.
  
 *Please Note:  If you need credit reported to the IRS for this IRS approved program, please download the IRS CE request form on the Course Materials Tab and submit to terri.storer@acpen.com
  
  
 Speakers:J. Patrick Garverick, CPA, MT, CFPÂ®\Location:\nWebinar\n\n,
X-ALT-DESC;FMTTYPE=text/html:IRAs â€“ Contributions & Distributions for Traditional, Roth, SEP & SIMPLE IRAs<br /><br />03/13/27 09:00 AM CST - 03/13/27 04:37 PM CST<br />Description:<br /><p>This&nbsp;case-driven training&nbsp;is designed to get the inexperienced accountant up to speed quickly in the most common areas of S-corporation taxation. The cornerstone of this course is the preparation of the Form 1120S using a fairly complex trial balance common to most S corporation income tax returns.<meta charset="UTF-8" /></p>

<p>&nbsp;</p>

<p dir="ltr"><strong>*Please Note:&nbsp; If you need credit reported to the IRS for this IRS approved program, please download the IRS CE request form on the Course Materials Tab and submit to terri.storer@acpen.com</strong></p>

<p>&nbsp;</p>

<p>&nbsp;</p>
<br><b>Speakers:</b><br>J. Patrick Garverick, CPA, MT, CFPÂ®<br><br />Location:<br />Webinar<br /><br />,  
PRIORITY:3
TRANSP:TRANSPARENT
BEGIN:VALARM
TRIGGER:-PT5M
ACTION:DISPLAY
DESCRIPTION:Reminder
END:VALARM
END:VEVENT
END:VCALENDAR
