BEGIN:VCALENDAR
VERSION:2.0
CALSCALE:GREGORIAN
METHOD:PUBLISH
PRODID://NDCP//510771
BEGIN:VEVENT
DTSTAMP:20260424T223240
VTIMEZONE:America/Chicago
DTSTART:20270327T140000Z
DTEND:20270327T170000Z
UID:510771
SUMMARY:IT Controls & SOC Reporting in Financial Audits
LOCATION:Webinar
DESCRIPTION:IT Controls & SOC Reporting in Financial Audits\n\n03/27/27 09:00 AM CST\n - 03/27/27 12:00 PM CST\Description:\nThis course provides a practical understanding of IT controls and SOC reporting within financial audits. Participants will learn how to interpret SOC reports, evaluate control effectiveness, and determine reliance strategies. Real-world examples will demonstrate how IT controls tie directly to relevant financial statement areas and alignment with Complementary User Entity Controls (CUECs).
 Speakers:Kevin M. Rockecharlie, CISA\Location:\nWebinar\n\n,
X-ALT-DESC;FMTTYPE=text/html:IT Controls & SOC Reporting in Financial Audits<br /><br />03/27/27 09:00 AM CST - 03/27/27 12:00 PM CST<br />Description:<br /><p>This course provides a practical understanding of IT controls and SOC reporting within financial audits. Participants will learn how to interpret SOC reports, evaluate control effectiveness, and determine reliance strategies. Real-world examples will demonstrate how IT controls tie directly to relevant financial statement areas and alignment with Complementary User Entity Controls (CUECs).</p>
<br><b>Speakers:</b><br>Kevin M. Rockecharlie, CISA<br><br />Location:<br />Webinar<br /><br />,  
PRIORITY:3
TRANSP:TRANSPARENT
BEGIN:VALARM
TRIGGER:-PT5M
ACTION:DISPLAY
DESCRIPTION:Reminder
END:VALARM
END:VEVENT
END:VCALENDAR
