BEGIN:VCALENDAR
VERSION:2.0
CALSCALE:GREGORIAN
METHOD:PUBLISH
PRODID://NDCP//510894
BEGIN:VEVENT
DTSTAMP:20260424T223903
VTIMEZONE:America/Chicago
DTSTART:20270327T180000Z
DTEND:20270328T013900Z
UID:510894
SUMMARY:Qualified Business Income (QBI) Deduction (Â§199A) â€“ The Ins & Outs
LOCATION:Webinar
DESCRIPTION:Qualified Business Income (QBI) Deduction (Â§199A) â€“ The Ins & Outs\n\n03/27/27 01:00 PM CST\n - 03/27/27 08:39 PM CST\Description:\nThe Tax Cuts and Jobs Act (TCJA) was a major overhaul of our tax system that lowered the income tax rates for individual and corporate taxpayers and introduced the new 20% qualified business income (QBI) deduction for sole proprietors and pass-through entities. The cornerstone of this course is the comprehensive discussion of the 20% QBI deduction final regulations under IRC §199A.   
  
 *Please Note:  If you need credit reported to the IRS for this IRS approved program, please download the IRS CE request form on the Course Materials Tab and submit to terri.storer@acpen.com
  
  
 Speakers:J. Patrick Garverick, CPA, MT, CFPÂ®\Location:\nWebinar\n\n,
X-ALT-DESC;FMTTYPE=text/html:Qualified Business Income (QBI) Deduction (Â§199A) â€“ The Ins & Outs<br /><br />03/27/27 01:00 PM CST - 03/27/27 08:39 PM CST<br />Description:<br /><p>The Tax Cuts and Jobs Act (TCJA) was a major overhaul of our tax system that lowered the income tax rates for individual and corporate taxpayers and introduced the new 20% qualified business income (QBI) deduction for sole proprietors and pass-through entities. The cornerstone of this course is the comprehensive discussion of the 20% QBI deduction final regulations under IRC &sect;199A.&nbsp;&nbsp;&nbsp;<meta charset="UTF-8" /></p>

<p>&nbsp;</p>

<p dir="ltr"><strong>*Please Note:&nbsp; If you need credit reported to the IRS for this IRS approved program, please download the IRS CE request form on the Course Materials Tab and submit to terri.storer@acpen.com</strong></p>

<p>&nbsp;</p>

<p>&nbsp;</p>
<br><b>Speakers:</b><br>J. Patrick Garverick, CPA, MT, CFPÂ®<br><br />Location:<br />Webinar<br /><br />,  
PRIORITY:3
TRANSP:TRANSPARENT
BEGIN:VALARM
TRIGGER:-PT5M
ACTION:DISPLAY
DESCRIPTION:Reminder
END:VALARM
END:VEVENT
END:VCALENDAR
