BEGIN:VCALENDAR
VERSION:2.0
CALSCALE:GREGORIAN
METHOD:PUBLISH
PRODID://NDCP//510974
BEGIN:VEVENT
DTSTAMP:20260424T223053
VTIMEZONE:America/Chicago
DTSTART:20270313T150000Z
DTEND:20270313T230000Z
UID:510974
SUMMARY:The Single Audit from Beginning to End Update
LOCATION:Webinar
DESCRIPTION:The Single Audit from Beginning to End Update\n\n03/13/27 09:00 AM CST\n - 03/13/27 05:00 PM CST\Description:\nThis course is an updated overview of the single audit of state and local governments and not-for-profit organizations under the OMB Unified Circular, as well as the applicable AICPA standards for compliance audits. 
 Speakers:J. Michael Inzina\Location:\nWebinar\n\n,
X-ALT-DESC;FMTTYPE=text/html:The Single Audit from Beginning to End Update<br /><br />03/13/27 09:00 AM CST - 03/13/27 05:00 PM CST<br />Description:<br /><p class="p1">This course is an updated overview of the single audit of state and local governments and not-for-profit organizations under the OMB Unified Circular, as well as the applicable AICPA standards for compliance audits.&nbsp;</p>
<br><b>Speakers:</b><br>J. Michael Inzina<br><br />Location:<br />Webinar<br /><br />,  
PRIORITY:3
TRANSP:TRANSPARENT
BEGIN:VALARM
TRIGGER:-PT5M
ACTION:DISPLAY
DESCRIPTION:Reminder
END:VALARM
END:VEVENT
END:VCALENDAR
