BEGIN:VCALENDAR
VERSION:2.0
CALSCALE:GREGORIAN
METHOD:PUBLISH
PRODID://NDCP//510982
BEGIN:VEVENT
DTSTAMP:20260425T070158
VTIMEZONE:America/Chicago
DTSTART:20270313T170000Z
DTEND:20270314T005900Z
UID:510982
SUMMARY:The Yellow Book:  From Beginning to End
LOCATION:Webinar
DESCRIPTION:The Yellow Book:  From Beginning to End\n\n03/13/27 11:00 AM CST\n - 03/13/27 06:59 PM CST\Description:\nA comprehensive review of the newest version of the U.S. Government Accountability Office’s Government Auditing Standards, otherwise known as “the Yellow Book.”  The standard will affect all auditors who perform audits of government and nonprofit organizations who receive federal funds, or where application of GAO standards is required by law, regulation or contract.  It does not address the standards applicable to performance audits.
 Speakers:J. Michael Inzina\Location:\nWebinar\n\n,
X-ALT-DESC;FMTTYPE=text/html:The Yellow Book:  From Beginning to End<br /><br />03/13/27 11:00 AM CST - 03/13/27 06:59 PM CST<br />Description:<br /><p class="p1">A comprehensive review of the newest version of the U.S. Government Accountability Office&rsquo;s <em>Government Auditing Standards</em>, otherwise known as &ldquo;the Yellow Book.&rdquo;&nbsp; The standard will affect all auditors who perform audits of government and nonprofit organizations who receive federal funds, or where application of GAO standards is required by law, regulation or contract.&nbsp; It does not address the standards applicable to performance audits.</p>
<br><b>Speakers:</b><br>J. Michael Inzina<br><br />Location:<br />Webinar<br /><br />,  
PRIORITY:3
TRANSP:TRANSPARENT
BEGIN:VALARM
TRIGGER:-PT5M
ACTION:DISPLAY
DESCRIPTION:Reminder
END:VALARM
END:VEVENT
END:VCALENDAR
