BEGIN:VCALENDAR
VERSION:2.0
CALSCALE:GREGORIAN
METHOD:PUBLISH
PRODID://NDCP//511327
BEGIN:VEVENT
DTSTAMP:20260422T064530
VTIMEZONE:America/Chicago
DTSTART:20260917T140000Z
DTEND:20260918T220000Z
UID:511327
SUMMARY:K2's Technology Conference - September 17th & 18th
LOCATION:Webinar
DESCRIPTION:K2's Technology Conference - September 17th & 18th\n\n09/17/26 09:00 AM CST\n - 09/18/26 05:00 PM CST\Description:\nStay ahead in the rapidly evolving world of technology with this comprehensive two-day virtual technology conference designed specifically for accounting and business professionals. Developed by K2 Enterprises, a nationally recognized leader in technology training for CPAs and financial professionals, this event provides practical guidance and real-world solutions you can implement immediately. Participants can earn 16 hours of CPE credit while exploring the latest tools, strategies, and innovations shaping the profession today.
 The conference begins each day with engaging general sessions covering key topics such as the latest technology developments impacting the profession, how to maximize efficiency with Excel, real-world tools that deliver measurable results, and lessons learned from some of the most fascinating technology crimes making headlines today.
 Following the general sessions, attendees can customize their experience by selecting from three specialized learning tracks designed for both public accounting professionals and industry accountants, allowing them to focus on the technologies and strategies most relevant to their role and organization. Breakout sessions explore a wide range of topics including, but not limited to, building future-ready businesses, selecting the right CPA firm technology, Copilot and Agentic AI, CAS and Advisory Technology Optimization, and IT governance and strategy.
 The conference provides practical guidance, expert insights, and real-world strategies to help professionals work smarter, strengthen security, improve efficiency, and leverage technology for competitive advantage.
 Speakers:Thomas G. Stephens Jr., CPA.CITP, CGMA\Location:\nWebinar\n\n,
X-ALT-DESC;FMTTYPE=text/html:K2's Technology Conference - September 17th & 18th<br /><br />09/17/26 09:00 AM CST - 09/18/26 05:00 PM CST<br />Description:<br /><p>Stay ahead in the rapidly evolving world of technology with this comprehensive two-day virtual technology conference designed specifically for accounting and business professionals. Developed by K2 Enterprises, a nationally recognized leader in technology training for CPAs and financial professionals, this event provides practical guidance and real-world solutions you can implement immediately. Participants can earn 16 hours of CPE credit while exploring the latest tools, strategies, and innovations shaping the profession today.<br />
<br />
The conference begins each day with engaging general sessions covering key topics such as the latest technology developments impacting the profession, how to maximize efficiency with Excel, real-world tools that deliver measurable results, and lessons learned from some of the most fascinating technology crimes making headlines today.<br />
<br />
Following the general sessions, attendees can customize their experience by selecting from three specialized learning tracks designed for both public accounting professionals and industry accountants, allowing them to focus on the technologies and strategies most relevant to their role and organization. Breakout sessions explore a wide range of topics including, but not limited to, building future-ready businesses, selecting the right CPA firm technology, Copilot and Agentic AI, CAS and Advisory Technology Optimization, and IT governance and strategy.<br />
<br />
The conference provides practical guidance, expert insights, and real-world strategies to help professionals work smarter, strengthen security, improve efficiency, and leverage technology for competitive advantage.</p>
<br><b>Speakers:</b><br>Thomas G. Stephens Jr., CPA.CITP, CGMA<br><br />Location:<br />Webinar<br /><br />,  
PRIORITY:3
TRANSP:TRANSPARENT
BEGIN:VALARM
TRIGGER:-PT5M
ACTION:DISPLAY
DESCRIPTION:Reminder
END:VALARM
END:VEVENT
END:VCALENDAR
