BEGIN:VCALENDAR
VERSION:2.0
CALSCALE:GREGORIAN
METHOD:PUBLISH
PRODID://NDCP//511337
BEGIN:VEVENT
DTSTAMP:20260422T114718
VTIMEZONE:America/Chicago
DTSTART:20260919T180000Z
DTEND:20260919T193200Z
UID:511337
SUMMARY:AI In Audit and Financial Reporting
LOCATION:Webinar
DESCRIPTION:AI In Audit and Financial Reporting\n\n09/19/26 01:00 PM CST\n - 09/19/26 02:32 PM CST\Description:\nAuditors and financial professionals must understand how to integrate AI responsibly while maintaining professional skepticism, audit quality, and compliance with regulatory expectations.
 However, the use of AI also introduces new governance, ethical, and regulatory considerations that organizations must carefully manage.
 This course explores how AI is currently being used in audit and financial reporting, the benefits and risks associated with its adoption, and how organizations can establish appropriate governance, controls, and oversight.
  
 Speakers:Lynn Fountain\Location:\nWebinar\n\n,
X-ALT-DESC;FMTTYPE=text/html:AI In Audit and Financial Reporting<br /><br />09/19/26 01:00 PM CST - 09/19/26 02:32 PM CST<br />Description:<br /><p>Auditors and financial professionals must understand how to integrate AI responsibly while maintaining professional skepticism, audit quality, and compliance with regulatory expectations.</p>

<p><br />
However, the use of AI also introduces new governance, ethical, and regulatory considerations that organizations must carefully manage.<br />
This course explores how AI is currently being used in audit and financial reporting, the benefits and risks associated with its adoption, and how organizations can establish appropriate governance, controls, and oversight.</p>

<p>&nbsp;</p>
<br><b>Speakers:</b><br>Lynn Fountain<br><br />Location:<br />Webinar<br /><br />,  
PRIORITY:3
TRANSP:TRANSPARENT
BEGIN:VALARM
TRIGGER:-PT5M
ACTION:DISPLAY
DESCRIPTION:Reminder
END:VALARM
END:VEVENT
END:VCALENDAR
