BEGIN:VCALENDAR
VERSION:2.0
CALSCALE:GREGORIAN
METHOD:PUBLISH
PRODID://NDCP//511475
BEGIN:VEVENT
DTSTAMP:20260422T070551
VTIMEZONE:America/Chicago
DTSTART:20260919T170000Z
DTEND:20260919T181300Z
UID:511475
SUMMARY:Leading Risk Management Practices in a Dynamic Risk Environment - Part 2
LOCATION:Webinar
DESCRIPTION:Leading Risk Management Practices in a Dynamic Risk Environment - Part 2\n\n09/19/26 12:00 PM CST\n - 09/19/26 01:13 PM CST\Description:\nIn Session One we evaluated:
 • Examine Governance Organizational Framework (Strategy & Risk)
 • Determine how to identify risks
 • Understand how to Assess Risk - Risk Assessment impact and likelihood
 • Steps towards performing a comprehensive Risk Assessment and Prioritization
 This session goes deeper into the process of risk management and risk assessment. This session also includes a case scenario for evaluating risk management risks. 
  
 Speakers:Lynn Fountain\Location:\nWebinar\n\n,
X-ALT-DESC;FMTTYPE=text/html:Leading Risk Management Practices in a Dynamic Risk Environment - Part 2<br /><br />09/19/26 12:00 PM CST - 09/19/26 01:13 PM CST<br />Description:<br /><p>In Session One we evaluated:</p>

<p><br />
&bull; Examine Governance Organizational Framework (Strategy &amp; Risk)<br />
&bull; Determine how to identify risks<br />
&bull; Understand how to Assess Risk - Risk Assessment impact and likelihood<br />
&bull; Steps towards performing a comprehensive Risk Assessment and Prioritization</p>

<p>This session goes deeper into the process of risk management and risk assessment. This session also includes a case scenario for evaluating risk management risks.&nbsp;</p>

<p>&nbsp;</p>
<br><b>Speakers:</b><br>Lynn Fountain<br><br />Location:<br />Webinar<br /><br />,  
PRIORITY:3
TRANSP:TRANSPARENT
BEGIN:VALARM
TRIGGER:-PT5M
ACTION:DISPLAY
DESCRIPTION:Reminder
END:VALARM
END:VEVENT
END:VCALENDAR
