BEGIN:VCALENDAR
VERSION:2.0
CALSCALE:GREGORIAN
METHOD:PUBLISH
PRODID://NDCP//511516
BEGIN:VEVENT
DTSTAMP:20260424T223123
VTIMEZONE:America/Chicago
DTSTART:20270327T140000Z
DTEND:20270327T152900Z
UID:511516
SUMMARY:Managing Generational and Cultural Variances
LOCATION:Webinar
DESCRIPTION:Managing Generational and Cultural Variances\n\n03/27/27 09:00 AM CST\n - 03/27/27 10:29 AM CST\Description:\nWhether you have held a management position for several years, or are just transitioning to a role which requires you to manage other individuals, you will find that becoming and remaining a good manager is often an art rather than just a technical skill!
 This segment flows nicely with the segment on Managing Traits and Skills.  This segment will focus on the dynamics of managing in a world full of several generations in the workforce as well as cultures. 
 Speakers:Lynn Fountain\Location:\nWebinar\n\n,
X-ALT-DESC;FMTTYPE=text/html:Managing Generational and Cultural Variances<br /><br />03/27/27 09:00 AM CST - 03/27/27 10:29 AM CST<br />Description:<br /><p>Whether you have held a management position for several years, or are just transitioning to a role which requires you to manage other individuals, you will find that becoming and remaining a good manager is often an art rather than just a technical skill!<br />
This segment flows nicely with the segment on Managing Traits and Skills.&nbsp; This segment will focus on the dynamics of managing in a world full of several generations in the workforce as well as cultures.&nbsp;</p>
<br><b>Speakers:</b><br>Lynn Fountain<br><br />Location:<br />Webinar<br /><br />,  
PRIORITY:3
TRANSP:TRANSPARENT
BEGIN:VALARM
TRIGGER:-PT5M
ACTION:DISPLAY
DESCRIPTION:Reminder
END:VALARM
END:VEVENT
END:VCALENDAR
