BEGIN:VCALENDAR
VERSION:2.0
CALSCALE:GREGORIAN
METHOD:PUBLISH
PRODID://NDCP//511605
BEGIN:VEVENT
DTSTAMP:20260422T064323
VTIMEZONE:America/Chicago
DTSTART:20260904T190000Z
DTEND:20260904T200500Z
UID:511605
SUMMARY:The Controllership Series - The Controllers Role in Strategic Thinking and Advising - Part 2
LOCATION:Webinar
DESCRIPTION:The Controllership Series - The Controllers Role in Strategic Thinking and Advising - Part 2\n\n09/04/26 02:00 PM CST\n - 09/04/26 03:05 PM CST\Description:\nThe strategic controller helps leadership decide what should happen, not just explain what has already been done.  The controller often acts as the enterprise translator between strategy, operations, and financial outcomes.  This can sometimes appear to be accuracy-focused and not necessarily decision useful insight.  Controllers must move away from just variance explanation and include performance interpretation. To do this, the controller must understand business models and value drivers, be able to translate strategy into financial growth and align KPIs with strategic priorities.  Part of this process includes understanding concepts of root-cause analysis vs. surface-level variance analysis.  It also includes understanding correlation vs. causation in financial data.  Within this segment we will review all of these concepts and controllers will come away with insightful ideas regarding how to elevate their roles.
  
 Speakers:Lynn Fountain\Location:\nWebinar\n\n,
X-ALT-DESC;FMTTYPE=text/html:The Controllership Series - The Controllers Role in Strategic Thinking and Advising - Part 2<br /><br />09/04/26 02:00 PM CST - 09/04/26 03:05 PM CST<br />Description:<br /><p>The strategic controller helps leadership decide what should happen, not just explain what has already been done.&nbsp; The controller often acts as the enterprise translator between strategy, operations, and financial outcomes.&nbsp; This can sometimes appear to be accuracy-focused and not necessarily decision useful insight.&nbsp; Controllers must move away from just variance explanation and include performance interpretation. To do this, the controller must understand business models and value drivers, be able to translate strategy into financial growth and align KPIs with strategic priorities.&nbsp; Part of this process includes understanding concepts of root-cause analysis vs. surface-level variance analysis.&nbsp; It also includes understanding correlation vs. causation in financial data.&nbsp; Within this segment we will review all of these concepts and controllers will come away with insightful ideas regarding how to elevate their roles.</p>

<p>&nbsp;</p>
<br><b>Speakers:</b><br>Lynn Fountain<br><br />Location:<br />Webinar<br /><br />,  
PRIORITY:3
TRANSP:TRANSPARENT
BEGIN:VALARM
TRIGGER:-PT5M
ACTION:DISPLAY
DESCRIPTION:Reminder
END:VALARM
END:VEVENT
END:VCALENDAR
