BEGIN:VCALENDAR
VERSION:2.0
CALSCALE:GREGORIAN
METHOD:PUBLISH
PRODID://NDCP//511634
BEGIN:VEVENT
DTSTAMP:20260422T070458
VTIMEZONE:America/Chicago
DTSTART:20260919T160000Z
DTEND:20260919T171300Z
UID:511634
SUMMARY:The Entrepreneurial Spirit - A Leadership Perspective
LOCATION:Webinar
DESCRIPTION:The Entrepreneurial Spirit - A Leadership Perspective\n\n09/19/26 11:00 AM CST\n - 09/19/26 12:13 PM CST\Description:\nIn today’s rapidly changing business environment, organizations need professionals who think beyond traditional roles and demonstrate initiative, innovation, and strategic thinking. The entrepreneurial spirit is no longer limited to business founders—it is a mindset that drives creativity, problem-solving, and opportunity recognition within any organization.
 By understanding and embracing the entrepreneurial spirit, professionals can enhance their ability to lead initiatives, adapt to uncertainty, and contribute meaningfully to the long-term success of their organizations.
  
  
 Speakers:Lynn Fountain\Location:\nWebinar\n\n,
X-ALT-DESC;FMTTYPE=text/html:The Entrepreneurial Spirit - A Leadership Perspective<br /><br />09/19/26 11:00 AM CST - 09/19/26 12:13 PM CST<br />Description:<br /><p>In today&rsquo;s rapidly changing business environment, organizations need professionals who think beyond traditional roles and demonstrate initiative, innovation, and strategic thinking. The entrepreneurial spirit is no longer limited to business founders&mdash;it is a mindset that drives creativity, problem-solving, and opportunity recognition within any organization.<br />
<br />
By understanding and embracing the entrepreneurial spirit, professionals can enhance their ability to lead initiatives, adapt to uncertainty, and contribute meaningfully to the long-term success of their organizations.</p>

<p><br />
&nbsp;</p>

<p>&nbsp;</p>
<br><b>Speakers:</b><br>Lynn Fountain<br><br />Location:<br />Webinar<br /><br />,  
PRIORITY:3
TRANSP:TRANSPARENT
BEGIN:VALARM
TRIGGER:-PT5M
ACTION:DISPLAY
DESCRIPTION:Reminder
END:VALARM
END:VEVENT
END:VCALENDAR
