BEGIN:VCALENDAR
VERSION:2.0
CALSCALE:GREGORIAN
METHOD:PUBLISH
PRODID://NDCP//515158
BEGIN:VEVENT
DTSTAMP:20260422T082805
VTIMEZONE:America/Chicago
DTSTART:20260911T173000Z
DTEND:20260911T210000Z
UID:515158
SUMMARY:Surgent's Internal Controls and COSO in a Post-COVID Landscape (ICC4)
LOCATION:Webinar
DESCRIPTION:Surgent's Internal Controls and COSO in a Post-COVID Landscape (ICC4)\n\n09/11/26 12:30 PM CST\n - 09/11/26 04:00 PM CST\Description:\nCompanies that fall victim to fraud schemes need to reassess internal controls in order to prevent future fraudulent activity. In this course, we will review the 18 most prevalent internal controls present as well as designed and operating effectively according to the Association of Certified Fraud Examinersâ€™ Occupational Fraud 2022: A Report to the Nations. Then we will tie these controls to the 17 internal control principles offered by the Committee of Sponsoring Organizations of the Treadway Commission (COSO), the framework used by virtually all entities and auditors to assess the design and operational effectiveness of internal controls. Lastly, we will consider the impact of the 2020 pandemic on the internal control environment in the post-COVID pandemic era.Objectives:
 Understand that fraud occurs in companies with seemingly sound internal control structures
 Assess how internal controls fit into the COSO framework and determine whether mitigating controls are sufficient
 Understand the difference between reactions and responses to changing circumstances 
 Recognize that the days of working in an office may be numbered (or certainly reduced)
 Recognize that the increase of remote work options presents new, sometimes shocking challenges
 Understand that audits and other attestation engagements can actually be performed remotely, reducing time and cost
 Presenters:Frank Gorrell, MSA, CPA, CGMAField of Study:Auditing (4)Major Topics:
 ACFE's Occupational Fraud 2022: A Report to the Nations and the most commonly found controls in fraud victim organizations 
 Internal controls in relation to COSO principles
 How to employ controls to cut losses
 How to modify controls in the post-COVID era
 Remote work circumstances and considerations
 \Location:\nWebinar\n\n,
X-ALT-DESC;FMTTYPE=text/html:Surgent's Internal Controls and COSO in a Post-COVID Landscape (ICC4)<br /><br />09/11/26 12:30 PM CST - 09/11/26 04:00 PM CST<br />Description:<br />Companies that fall victim to fraud schemes need to reassess internal controls in order to prevent future fraudulent activity. In this course, we will review the 18 most prevalent internal controls present as well as designed and operating effectively according to the Association of Certified Fraud Examinersâ€™ Occupational Fraud 2022: A Report to the Nations. Then we will tie these controls to the 17 internal control principles offered by the Committee of Sponsoring Organizations of the Treadway Commission (COSO), the framework used by virtually all entities and auditors to assess the design and operational effectiveness of internal controls. Lastly, we will consider the impact of the 2020 pandemic on the internal control environment in the post-COVID pandemic era.<br><br><b>Objectives:</b><br><ul>
    <li>Understand that fraud occurs in companies with seemingly sound internal control structures</li>
    <li>Assess how internal controls fit into the COSO framework and determine whether mitigating controls&nbsp;are sufficient</li>
    <li>Understand the difference between reactions and responses to changing circumstances&nbsp;</li>
    <li>Recognize that the days of working in an office may be numbered (or certainly reduced)</li>
    <li>Recognize that the increase of remote work options presents new, sometimes shocking challenges</li>
    <li>Understand that audits and other attestation engagements can actually be performed remotely, reducing time and cost</li>
</ul><br><b>Presenters:</b><br>Frank Gorrell, MSA, CPA, CGMA<br><br><b>Field of Study:</b><br>Auditing (4)<br><br><b>Major Topics:</b><br><ul style="list-style-type: disc;">
    <li><span>ACFE's <em>Occupational Fraud 2022:&nbsp;A&nbsp;Report to the Nations</em> and the most commonly found controls in fraud victim organizations&nbsp;</span></li>
    <li><span>Internal controls in relation to COSO principles</span></li>
    <li><span>How to employ controls to cut losses</span></li>
    <li><span>How to modify controls in the post-COVID era</span></li>
    <li><span>Remote work circumstances and considerations</span></li>
</ul><br />Location:<br />Webinar<br /><br />,  
PRIORITY:3
TRANSP:TRANSPARENT
BEGIN:VALARM
TRIGGER:-PT5M
ACTION:DISPLAY
DESCRIPTION:Reminder
END:VALARM
END:VEVENT
END:VCALENDAR
