BEGIN:VCALENDAR
VERSION:2.0
CALSCALE:GREGORIAN
METHOD:PUBLISH
PRODID://NDCP//515271
BEGIN:VEVENT
DTSTAMP:20260422T095501
VTIMEZONE:America/Chicago
DTSTART:20260917T173000Z
DTEND:20260917T210000Z
UID:515271
SUMMARY:Surgent's New Jersey Law and Ethics (ETNJ)
LOCATION:Webinar
DESCRIPTION:Surgent's New Jersey Law and Ethics (ETNJ)\n\n09/17/26 12:30 PM CST\n - 09/17/26 04:00 PM CST\Description:\nProfessional conduct and ethical behavior are really the backbone of the entire accounting and auditing profession. These components form the foundation upon which our creditability with the general public is built, without which, there is no profession. Whether you are a practitioner in public accounting or business and industry, you must always act in accordance with the requirements that define professional conduct and ethical behavior. This course is approved by the New Jersey State Board of Accountancy (Board) and fulfills the requirement that each applicant for triennial license renewal shall complete, during the preceding triennial period, a four credit hours course on New Jersey law and ethics approved by the Board applicable to the practice of public accountancy. This course specifically covers the Accountancy Act of 1997; Rules of the New Jersey State Board of Accountancy, including the rules of professional conduct; the Uniform Enforcement Act; and the Uniform Regulations of the Division of Consumer Affairs. The primary objective of the course is to contribute directly to the maintenance of your professional competence as a licensed New Jersey CPA.Objectives:
 Fulfil the New Jersey Board of Accountancy requirement that each applicant for triennial license renewal shall complete, during the preceding triennial period, a four credit course on New Jersey law and ethics approved by the Board pursuant to N.J.A.C.13:29-6.6(c)
 Understand the New Jersey professional standards and responsibilities for the practice of public accounting found in the following: 
 i)   The Accountancy Act of 1997, N.J.S.A.45:2B-42 et seq.;
 ii)	The rules of the New Jersey State Board of Accountancy, N.J.A.C.13:29, specifically including, but not limited to, the rules of professional conduct set forth in N.J.A.C.13:29-3;
 iii)	The Uniform Enforcement Act, N.J.S.A.45:1-7.1, 7.2, 7.3 and 18 et seq.; and
 iv) The uniform regulations of the Division of Consumer Affairs, N.J.A.C.13:45C;
 Review the AICPA Code of Professional Ethics
 Presenters:Sharon MartinField of Study:Regulatory Ethics (4)Major Topics:
 The Accountancy Act of 1997 and the Rules and Regulations of the New Jersey Board of Accountancy
 Other New Jersey professional standards and responsibilities for the practice of public accounting
 The AICPA Code of Professional Conduct
 \Location:\nWebinar\n\n,
X-ALT-DESC;FMTTYPE=text/html:Surgent's New Jersey Law and Ethics (ETNJ)<br /><br />09/17/26 12:30 PM CST - 09/17/26 04:00 PM CST<br />Description:<br />Professional conduct and ethical behavior are really the backbone of the entire accounting and auditing profession. These components form the foundation upon which our creditability with the general public is built, without which, there is no profession. Whether you are a practitioner in public accounting or business and industry, you must always act in accordance with the requirements that define professional conduct and ethical behavior. This course is approved by the New Jersey State Board of Accountancy (Board) and fulfills the requirement that each applicant for triennial license renewal shall complete, during the preceding triennial period, a four credit hours course on New Jersey law and ethics approved by the Board applicable to the practice of public accountancy. This course specifically covers the Accountancy Act of 1997; Rules of the New Jersey State Board of Accountancy, including the rules of professional conduct; the Uniform Enforcement Act; and the Uniform Regulations of the Division of Consumer Affairs. The primary objective of the course is to contribute directly to the maintenance of your professional competence as a licensed New Jersey CPA.<br><br><b>Objectives:</b><br><ul>
    <li>Fulfil the New Jersey Board of Accountancy requirement that each applicant for triennial license renewal shall complete, during the preceding triennial period, a four credit course on New Jersey law and ethics approved by the Board pursuant to N.J.A.C.13:29-6.6(c)</li>
    <li>Understand the New Jersey professional standards and responsibilities for the practice of public accounting found in the following:&nbsp;<br />
    i) &nbsp; The Accountancy Act of 1997, N.J.S.A.45:2B-42 et seq.;<br />
    ii)<span class="Apple-tab-span" style="white-space: pre;">	</span>The rules of the New Jersey State Board of Accountancy, N.J.A.C.13:29, specifically including, but not limited to, the rules of professional conduct set forth in N.J.A.C.13:29-3;<br />
    iii)<span class="Apple-tab-span" style="white-space: pre;">	</span>The Uniform Enforcement Act, N.J.S.A.45:1-7.1, 7.2, 7.3 and 18 et seq.; and<br />
    iv) The uniform regulations of the Division of Consumer Affairs, N.J.A.C.13:45C; </li>
    <li>Review the AICPA Code of Professional Ethics</li>
</ul><br><b>Presenters:</b><br>Sharon Martin<br><br><b>Field of Study:</b><br>Regulatory Ethics (4)<br><br><b>Major Topics:</b><br><ul>
    <li>The Accountancy Act of 1997 and the Rules and Regulations of the New Jersey Board of Accountancy</li>
    <li>Other New Jersey professional standards and responsibilities for the practice of public accounting</li>
    <li>The AICPA Code of Professional Conduct</li>
</ul><br />Location:<br />Webinar<br /><br />,  
PRIORITY:3
TRANSP:TRANSPARENT
BEGIN:VALARM
TRIGGER:-PT5M
ACTION:DISPLAY
DESCRIPTION:Reminder
END:VALARM
END:VEVENT
END:VCALENDAR
